BEGIN:VCALENDAR
VERSION:2.0
PRODID:-//Giornata Nazionale della Psicologia 2022 - ECPv6.0.12//NONSGML v1.0//EN
CALSCALE:GREGORIAN
METHOD:PUBLISH
X-WR-CALNAME:Giornata Nazionale della Psicologia 2022
X-ORIGINAL-URL:https://www.psy.it/giornatapsicologia
X-WR-CALDESC:Eventi per Giornata Nazionale della Psicologia 2022
REFRESH-INTERVAL;VALUE=DURATION:PT1H
X-Robots-Tag:noindex
X-PUBLISHED-TTL:PT1H
BEGIN:VTIMEZONE
TZID:Europe/Rome
BEGIN:DAYLIGHT
TZOFFSETFROM:+0100
TZOFFSETTO:+0200
TZNAME:CEST
DTSTART:20220327T010000
END:DAYLIGHT
BEGIN:STANDARD
TZOFFSETFROM:+0200
TZOFFSETTO:+0100
TZNAME:CET
DTSTART:20221030T010000
END:STANDARD
END:VTIMEZONE
BEGIN:VEVENT
DTSTART;VALUE=DATE:20221010
DTEND;VALUE=DATE:20221017
DTSTAMP:20260423T133852
CREATED:20221007T083405Z
LAST-MODIFIED:20221007T131604Z
UID:1549-1665360000-1665964799@www.psy.it
SUMMARY:Studi Aperti - I Percorsi della Resilienza
DESCRIPTION:Scarica la locandina dell’iniziativa.
URL:https://www.psy.it/giornatapsicologia/evento/studi-aperti-i-percorsi-della-resilienza/
LOCATION:Basilicata
CATEGORIES:Basilicata
ATTACH;FMTTYPE=image/jpeg:https://www.psy.it/giornatapsicologia/wp-content/uploads/matera-cover-v1.jpg
ORGANIZER;CN="Ordine%20degli%20Psicologi%20della%20Basilicata":MAILTO:psicologi.basilicata@tiscali.it
END:VEVENT
BEGIN:VEVENT
DTSTART;VALUE=DATE:20221010
DTEND;VALUE=DATE:20221023
DTSTAMP:20260423T133852
CREATED:20221006T134318Z
LAST-MODIFIED:20221007T131701Z
UID:1406-1665360000-1666483199@www.psy.it
SUMMARY:Studi Aperti - I Percorsi della Resilienza
DESCRIPTION:Scarica la locandina dell’iniziativa.
URL:https://www.psy.it/giornatapsicologia/evento/studi-aperti/
LOCATION:Toscana
CATEGORIES:Toscana
ATTACH;FMTTYPE=image/jpeg:https://www.psy.it/giornatapsicologia/wp-content/uploads/firenze-cover-v1.jpg
ORGANIZER;CN="Ordine%20degli%20Psicologi%20della%20Toscana":MAILTO:mail@psicologia.toscana.it
END:VEVENT
BEGIN:VEVENT
DTSTART;TZID=Europe/Rome:20221013T133000
DTEND;TZID=Europe/Rome:20221013T183000
DTSTAMP:20260423T133852
CREATED:20221006T141743Z
LAST-MODIFIED:20221006T141743Z
UID:1447-1665667800-1665685800@www.psy.it
SUMMARY:Adolescenti: talenti\, creatività e resilienza
DESCRIPTION:Scarica la locandina dell’evento.
URL:https://www.psy.it/giornatapsicologia/evento/adolescenti-talenti-creativita-e-resilienza/
LOCATION:Torino – Teatro Vittoria\, Via A. Gramsci\, 4\, Torino\, Italia
CATEGORIES:Piemonte
ATTACH;FMTTYPE=image/jpeg:https://www.psy.it/giornatapsicologia/wp-content/uploads/torino-cover-v1.jpg
ORGANIZER;CN="Ordine%20degli%20Psicologi%20del%20Piemonte":MAILTO:segreteria@ordinepsicologi.piemonte.it
END:VEVENT
BEGIN:VEVENT
DTSTART;VALUE=DATE:20221014
DTEND;VALUE=DATE:20221016
DTSTAMP:20260423T133852
CREATED:20221006T091535Z
LAST-MODIFIED:20221007T132105Z
UID:1338-1665705600-1665878399@www.psy.it
SUMMARY:Psicologia e Complessità
DESCRIPTION:Scarica la locandina dell’evento.
URL:https://www.psy.it/giornatapsicologia/evento/psicologia-e-complessita/
LOCATION:Online
CATEGORIES:Toscana
ATTACH;FMTTYPE=image/jpeg:https://www.psy.it/giornatapsicologia/wp-content/uploads/firenze-cover-v1.jpg
ORGANIZER;CN="Ordine%20degli%20Psicologi%20della%20Toscana":MAILTO:mail@psicologia.toscana.it
END:VEVENT
BEGIN:VEVENT
DTSTART;VALUE=DATE:20221014
DTEND;VALUE=DATE:20221016
DTSTAMP:20260423T133852
CREATED:20221013T081833Z
LAST-MODIFIED:20221013T081833Z
UID:1637-1665705600-1665878399@www.psy.it
SUMMARY:Giovani che partecipano
DESCRIPTION:Scarica la locandina dell’evento.
URL:https://www.psy.it/giornatapsicologia/evento/giovani-che-partecipano/
LOCATION:Aosta – Cittadella dei Giovani
CATEGORIES:Valle d'Aosta
ATTACH;FMTTYPE=image/jpeg:https://www.psy.it/giornatapsicologia/wp-content/uploads/aosta-cover-v1.jpg
ORGANIZER;CN="Ordine%20Psicologi%20Valle%20d%E2%80%99Aosta":MAILTO:consiglio@ordinepsicologi.vda.it
END:VEVENT
BEGIN:VEVENT
DTSTART;TZID=Europe/Rome:20221014T173000
DTEND;TZID=Europe/Rome:20221014T193000
DTSTAMP:20260423T133852
CREATED:20221006T150832Z
LAST-MODIFIED:20221006T150832Z
UID:1499-1665768600-1665775800@www.psy.it
SUMMARY:Percorsi di resilienza - un approccio psicologico
DESCRIPTION:Scarica la locandina dell’evento.
URL:https://www.psy.it/giornatapsicologia/evento/percorsi-di-resilienza-un-approccio-psicologico/
LOCATION:Trento – MUSE sala conferenze\, Corso del lavoro e della scienza\, 3\, Trento\, Italia
CATEGORIES:Trentino Alto Adige
ATTACH;FMTTYPE=image/jpeg:https://www.psy.it/giornatapsicologia/wp-content/uploads/trento-cover-v1.jpg
ORGANIZER;CN="Ordine%20degli%20Psicologi%20di%20Trento":MAILTO:info@ordinepsicologi.tn.it
END:VEVENT
BEGIN:VEVENT
DTSTART;TZID=Europe/Rome:20221015T093000
DTEND;TZID=Europe/Rome:20221015T120000
DTSTAMP:20260423T133852
CREATED:20221006T140817Z
LAST-MODIFIED:20221006T140817Z
UID:1442-1665826200-1665835200@www.psy.it
SUMMARY:Promuovere la salute psicologia nella popolazione
DESCRIPTION:Scarica la locandina dell’evento.
URL:https://www.psy.it/giornatapsicologia/evento/promuovere-la-salute-psicologia-nella-popolazione/
LOCATION:Genova – Sala Minor Consiglio\, Palazzo Ducale\, 16123\, Italia
CATEGORIES:Liguria
ATTACH;FMTTYPE=image/jpeg:https://www.psy.it/giornatapsicologia/wp-content/uploads/genova-cover-v1.jpg
ORGANIZER;CN="Ordine%20degli%20Psicologi%20della%20Liguria":MAILTO:psicolig@tin.it
END:VEVENT
BEGIN:VEVENT
DTSTART;TZID=Europe/Rome:20221020T204500
DTEND;TZID=Europe/Rome:20221020T235900
DTSTAMP:20260423T133852
CREATED:20221006T142039Z
LAST-MODIFIED:20221006T142039Z
UID:1451-1666298700-1666310340@www.psy.it
SUMMARY:Heal the World – Concerto-evento Psicologia e musica
DESCRIPTION:Scarica la locandina dell’evento.
URL:https://www.psy.it/giornatapsicologia/evento/heal-the-world-concerto-evento-psicologia-e-musica/
LOCATION:Torino – Palazzo della Luce\, Via Bertola\, 40\, Torino\, Italia
CATEGORIES:Piemonte
ATTACH;FMTTYPE=image/jpeg:https://www.psy.it/giornatapsicologia/wp-content/uploads/torino-cover-v1.jpg
ORGANIZER;CN="Ordine%20degli%20Psicologi%20del%20Piemonte":MAILTO:segreteria@ordinepsicologi.piemonte.it
END:VEVENT
BEGIN:VEVENT
DTSTART;VALUE=DATE:20221029
DTEND;VALUE=DATE:20221031
DTSTAMP:20260423T133852
CREATED:20221010T085220Z
LAST-MODIFIED:20221010T085220Z
UID:1577-1667001600-1667174399@www.psy.it
SUMMARY:Generazione Z - Adolescenti nell'era Ipermoderna
DESCRIPTION:Scarica la locandina dell’evento.
URL:https://www.psy.it/giornatapsicologia/evento/generazione-z-adolescenti-nellera-ipermoderna/
LOCATION:Pescara – Ex Aurum\, Pescara
CATEGORIES:Abruzzo
ATTACH;FMTTYPE=image/jpeg:https://www.psy.it/giornatapsicologia/wp-content/uploads/pescara-cover-v1-1.jpg
ORGANIZER;CN="Ordine%20degli%20Psicologi%20dell%E2%80%99Abruzzo":MAILTO:ordpsiab@tin.it
END:VEVENT
BEGIN:VEVENT
DTSTART;VALUE=DATE:20221203
DTEND;VALUE=DATE:20221204
DTSTAMP:20260423T133852
CREATED:20221010T085650Z
LAST-MODIFIED:20221010T085650Z
UID:1580-1670025600-1670111999@www.psy.it
SUMMARY:Limiti e confini
DESCRIPTION:
URL:https://www.psy.it/giornatapsicologia/evento/limiti-e-confini/
LOCATION:L’Aquila\, L'Aquila
CATEGORIES:Abruzzo
ATTACH;FMTTYPE=image/jpeg:https://www.psy.it/giornatapsicologia/wp-content/uploads/aquila-cover-v1-1.jpg
ORGANIZER;CN="Ordine%20degli%20Psicologi%20dell%E2%80%99Abruzzo":MAILTO:ordpsiab@tin.it
END:VEVENT
END:VCALENDAR