BEGIN:VCALENDAR
VERSION:2.0
PRODID:-//Giornata Nazionale della Psicologia 2022 - ECPv6.0.12//NONSGML v1.0//EN
CALSCALE:GREGORIAN
METHOD:PUBLISH
X-WR-CALNAME:Giornata Nazionale della Psicologia 2022
X-ORIGINAL-URL:https://www.psy.it/giornatapsicologia
X-WR-CALDESC:Eventi per Giornata Nazionale della Psicologia 2022
REFRESH-INTERVAL;VALUE=DURATION:PT1H
X-Robots-Tag:noindex
X-PUBLISHED-TTL:PT1H
BEGIN:VTIMEZONE
TZID:Europe/Rome
BEGIN:DAYLIGHT
TZOFFSETFROM:+0100
TZOFFSETTO:+0200
TZNAME:CEST
DTSTART:20220327T010000
END:DAYLIGHT
BEGIN:STANDARD
TZOFFSETFROM:+0200
TZOFFSETTO:+0100
TZNAME:CET
DTSTART:20221030T010000
END:STANDARD
END:VTIMEZONE
BEGIN:VEVENT
DTSTART;TZID=Europe/Rome:20221009T103000
DTEND;TZID=Europe/Rome:20221009T123000
DTSTAMP:20260421T033736
CREATED:20221006T140307Z
LAST-MODIFIED:20221006T140408Z
UID:1437-1665311400-1665318600@www.psy.it
SUMMARY:Psicologia e legami affettivi
DESCRIPTION:Scarica la locandina dell’evento.
URL:https://www.psy.it/giornatapsicologia/evento/psicologia-e-legami-affettivi/
LOCATION:Genova – Sala Quadrivium\, Piazza Santa Marta\, 2\, Genova\, 16121\, Italia
CATEGORIES:Liguria
ATTACH;FMTTYPE=image/jpeg:https://www.psy.it/giornatapsicologia/wp-content/uploads/genova-cover-v1.jpg
ORGANIZER;CN="Ordine%20degli%20Psicologi%20della%20Liguria":MAILTO:psicolig@tin.it
END:VEVENT
BEGIN:VEVENT
DTSTART;TZID=Europe/Rome:20221008T170000
DTEND;TZID=Europe/Rome:20221008T200000
DTSTAMP:20260421T033736
CREATED:20221006T145334Z
LAST-MODIFIED:20221006T145334Z
UID:1490-1665248400-1665259200@www.psy.it
SUMMARY:Donne reali corpi veri
DESCRIPTION:Scarica la locandina dell’evento.
URL:https://www.psy.it/giornatapsicologia/evento/donne-reali-corpi-veri/
LOCATION:Perugia – Umbrò Café\, Via Sant'Ercolano\, 4\, Perugia\, Italia
CATEGORIES:Umbria
ATTACH;FMTTYPE=image/jpeg:https://www.psy.it/giornatapsicologia/wp-content/uploads/perugia-cover-v1.jpg
ORGANIZER;CN="Ordine%20degli%20Psicologi%20dell%E2%80%99Umbria":MAILTO:info@ordinepsicologiumbria.it
END:VEVENT
BEGIN:VEVENT
DTSTART;TZID=Europe/Rome:20221008T143000
DTEND;TZID=Europe/Rome:20221008T163000
DTSTAMP:20260421T033736
CREATED:20221006T135446Z
LAST-MODIFIED:20221006T140452Z
UID:1429-1665239400-1665246600@www.psy.it
SUMMARY:Adolescenza\, scuola e psicologia
DESCRIPTION:Scarica la locandina dell’evento.
URL:https://www.psy.it/giornatapsicologia/evento/adolescenza-scuola-e-psicologia/
LOCATION:Genova – Sala Quadrivium\, Piazza Santa Marta\, 2\, Genova\, 16121\, Italia
CATEGORIES:Liguria
ATTACH;FMTTYPE=image/jpeg:https://www.psy.it/giornatapsicologia/wp-content/uploads/genova-cover-v1.jpg
ORGANIZER;CN="Ordine%20degli%20Psicologi%20della%20Liguria":MAILTO:psicolig@tin.it
END:VEVENT
BEGIN:VEVENT
DTSTART;TZID=Europe/Rome:20221008T083000
DTEND;TZID=Europe/Rome:20221008T163000
DTSTAMP:20260421T033736
CREATED:20221006T144824Z
LAST-MODIFIED:20221007T132029Z
UID:1486-1665217800-1665246600@www.psy.it
SUMMARY:La professione dello psicologo e psicoterapeuta in cure palliative del bambino e dell'adulto
DESCRIPTION:Scarica la locandina dell’evento.
URL:https://www.psy.it/giornatapsicologia/evento/la-professione-dello-psicologo-e-psicoterapeuta-in-cure-palliative-del-bambino-e-delladulto/
LOCATION:Perugia – Hotel Brufani\, Piazza Italia\, 12\, Perugia\, Italia
CATEGORIES:Umbria
ATTACH;FMTTYPE=image/jpeg:https://www.psy.it/giornatapsicologia/wp-content/uploads/perugia-cover-v1.jpg
ORGANIZER;CN="Ordine%20degli%20Psicologi%20dell%E2%80%99Umbria":MAILTO:info@ordinepsicologiumbria.it
END:VEVENT
BEGIN:VEVENT
DTSTART;TZID=Europe/Rome:20221007T090000
DTEND;TZID=Europe/Rome:20221007T170000
DTSTAMP:20260421T033736
CREATED:20221013T074921Z
LAST-MODIFIED:20221013T080058Z
UID:1630-1665133200-1665162000@www.psy.it
SUMMARY:Famiglia e azzardo
DESCRIPTION:Scarica la locandina dell’evento.
URL:https://www.psy.it/giornatapsicologia/evento/famiglia-e-azzardo/
LOCATION:Soverato (CZ) – Teatro comunale\, Via Carlo Amirante\, 75\, Soverato
CATEGORIES:Calabria
ATTACH;FMTTYPE=image/jpeg:https://www.psy.it/giornatapsicologia/wp-content/uploads/catanzaro-cover-v1.jpg
ORGANIZER;CN="Ordine%20degli%20Psicologi%20della%20Calabria":MAILTO:info@psicologicalabria.it
END:VEVENT
BEGIN:VEVENT
DTSTART;TZID=Europe/Rome:20221006T210000
DTEND;TZID=Europe/Rome:20221006T230000
DTSTAMP:20260421T033736
CREATED:20221006T133946Z
LAST-MODIFIED:20221006T135118Z
UID:1366-1665090000-1665097200@www.psy.it
SUMMARY:Concerto gratuito con l’Orchestra Multietnica di Arezzo aperto alla cittadinanza
DESCRIPTION:Scarica la locandina dell’evento.
URL:https://www.psy.it/giornatapsicologia/evento/concerto-gratuito-con-lorchestra-multietnica-di-arezzo-aperto-alla-cittadinanza/
LOCATION:Circo-teatro InStabile Firenze\, Firenze
CATEGORIES:Toscana
ATTACH;FMTTYPE=image/jpeg:https://www.psy.it/giornatapsicologia/wp-content/uploads/firenze-cover-v1.jpg
ORGANIZER;CN="Ordine%20degli%20Psicologi%20della%20Toscana":MAILTO:mail@psicologia.toscana.it
END:VEVENT
BEGIN:VEVENT
DTSTART;VALUE=DATE:20221005
DTEND;VALUE=DATE:20221009
DTSTAMP:20260421T033736
CREATED:20221006T145943Z
LAST-MODIFIED:20221007T124454Z
UID:1494-1664928000-1665273599@www.psy.it
SUMMARY:Psicologia Umbria Festival - Psiche e qualità della vita
DESCRIPTION:Scarica la locandina dell’evento.
URL:https://www.psy.it/giornatapsicologia/evento/psicologia-umbria-festival-psiche-e-qualita-della-vita/
LOCATION:Umbria
CATEGORIES:Umbria
ATTACH;FMTTYPE=image/jpeg:https://www.psy.it/giornatapsicologia/wp-content/uploads/perugia-cover-v1.jpg
ORGANIZER;CN="Ordine%20degli%20Psicologi%20dell%E2%80%99Umbria":MAILTO:info@ordinepsicologiumbria.it
END:VEVENT
END:VCALENDAR